Package: gcatest Version: 2.9.0 Command: chmod a+r gcatest -R && F:\biocbuild\bbs-3.22-bioc\R\bin\R.exe CMD build --keep-empty-dirs --no-resave-data gcatest StartedAt: 2025-08-14 20:20:39 -0400 (Thu, 14 Aug 2025) EndedAt: 2025-08-14 20:21:24 -0400 (Thu, 14 Aug 2025) EllapsedTime: 45.0 seconds RetCode: 0 Status: OK PackageFile: gcatest_2.9.0.tar.gz PackageFileSize: 2.147 MiB