Package: gcatest Version: 2.9.0 Command: rm -rf gcatest.buildbin-libdir && mkdir gcatest.buildbin-libdir && F:\biocbuild\bbs-3.22-bioc\R\bin\R.exe CMD INSTALL --build --library=gcatest.buildbin-libdir gcatest_2.9.0.tar.gz StartedAt: 2025-08-15 10:18:45 -0400 (Fri, 15 Aug 2025) EndedAt: 2025-08-15 10:18:53 -0400 (Fri, 15 Aug 2025) EllapsedTime: 8.0 seconds RetCode: 0 Status: OK PackageFile: gcatest_2.9.0.zip PackageFileSize: 3.547 MiB