Package: gcatest Version: 2.10.0 Command: /Library/Frameworks/R.framework/Resources/bin/R CMD check --install=check:gcatest.install-out.txt --library=/Library/Frameworks/R.framework/Resources/library --no-vignettes --timings gcatest_2.10.0.tar.gz StartedAt: 2025-11-10 20:08:25 -0500 (Mon, 10 Nov 2025) EndedAt: 2025-11-10 20:08:42 -0500 (Mon, 10 Nov 2025) EllapsedTime: 17.2 seconds RetCode: 0 Status: OK CheckDir: gcatest.Rcheck Warnings: 0