Package: gcapc Version: 1.32.0 Command: /Library/Frameworks/R.framework/Resources/bin/R CMD check --install=check:gcapc.install-out.txt --library=/Library/Frameworks/R.framework/Resources/library --no-vignettes --timings gcapc_1.32.0.tar.gz StartedAt: 2025-10-14 22:10:33 -0400 (Tue, 14 Oct 2025) EndedAt: 2025-10-14 22:17:57 -0400 (Tue, 14 Oct 2025) EllapsedTime: 444.3 seconds RetCode: 0 Status: OK CheckDir: gcapc.Rcheck Warnings: 0