Package: garfield Version: 1.37.0 Command: /home/biocbuild/R/R/bin/R CMD INSTALL garfield StartedAt: 2025-10-23 20:16:30 -0000 (Thu, 23 Oct 2025) EndedAt: 2025-10-23 20:16:58 -0000 (Thu, 23 Oct 2025) EllapsedTime: 28.2 seconds RetCode: 0 Status: OK