Package: garfield Version: 1.37.0 Command: /home/biocbuild/R/R/bin/R CMD check --install=check:garfield.install-out.txt --library=/home/biocbuild/R/R/site-library --no-vignettes --timings garfield_1.37.0.tar.gz StartedAt: 2025-10-17 09:11:06 -0000 (Fri, 17 Oct 2025) EndedAt: 2025-10-17 09:11:29 -0000 (Fri, 17 Oct 2025) EllapsedTime: 23.0 seconds RetCode: 0 Status: WARNINGS CheckDir: garfield.Rcheck Warnings: 1