Package: garfield Version: 1.38.0 Command: /Library/Frameworks/R.framework/Resources/bin/R CMD INSTALL garfield StartedAt: 2025-11-03 15:08:55 -0500 (Mon, 03 Nov 2025) EndedAt: 2025-11-03 15:09:10 -0500 (Mon, 03 Nov 2025) EllapsedTime: 15.1 seconds RetCode: 0 Status: OK