Package: garfield Version: 1.38.0 Command: /Library/Frameworks/R.framework/Resources/bin/R CMD check --install=check:garfield.install-out.txt --library=/Library/Frameworks/R.framework/Resources/library --no-vignettes --timings garfield_1.38.0.tar.gz StartedAt: 2025-11-03 21:20:10 -0500 (Mon, 03 Nov 2025) EndedAt: 2025-11-03 21:20:39 -0500 (Mon, 03 Nov 2025) EllapsedTime: 29.8 seconds RetCode: 0 Status: WARNINGS CheckDir: garfield.Rcheck Warnings: 1