Package: garfield Version: 1.38.0 Command: /Library/Frameworks/R.framework/Resources/bin/R CMD build --keep-empty-dirs --no-resave-data garfield StartedAt: 2025-11-03 17:05:36 -0500 (Mon, 03 Nov 2025) EndedAt: 2025-11-03 17:05:57 -0500 (Mon, 03 Nov 2025) EllapsedTime: 20.5 seconds RetCode: 0 Status: OK PackageFile: garfield_1.38.0.tar.gz PackageFileSize: 305.2 KiB