Package: gage Version: 2.58.0 Command: E:\biocbuild\bbs-3.21-bioc\R\bin\R.exe CMD check --no-multiarch --install=check:gage.install-out.txt --library=E:\biocbuild\bbs-3.21-bioc\R\library --no-vignettes --timings gage_2.58.0.tar.gz StartedAt: 2025-08-15 02:21:39 -0400 (Fri, 15 Aug 2025) EndedAt: 2025-08-15 02:24:18 -0400 (Fri, 15 Aug 2025) EllapsedTime: 158.8 seconds RetCode: 0 Status: WARNINGS CheckDir: gage.Rcheck Warnings: 1