Package: gage Version: 2.60.0 Command: /home/biocbuild/bbs-3.22-bioc/R/bin/R CMD check --install=check:gage.install-out.txt --library=/home/biocbuild/bbs-3.22-bioc/R/site-library --timings gage_2.60.0.tar.gz StartedAt: 2025-11-14 23:54:26 -0500 (Fri, 14 Nov 2025) EndedAt: 2025-11-14 23:58:44 -0500 (Fri, 14 Nov 2025) EllapsedTime: 258.3 seconds RetCode: 0 Status: WARNINGS CheckDir: gage.Rcheck Warnings: 2