Package: gVenn Version: 1.0.0 Command: /home/biocbuild/R/R/bin/R CMD build --keep-empty-dirs --no-resave-data gVenn StartedAt: 2025-11-14 02:24:08 -0000 (Fri, 14 Nov 2025) EndedAt: 2025-11-14 02:24:32 -0000 (Fri, 14 Nov 2025) EllapsedTime: 24.0 seconds RetCode: 0 Status: OK PackageFile: gVenn_1.0.0.tar.gz PackageFileSize: 1.721 MiB