Package: gVenn Version: 1.0.0 Command: /home/biocbuild/bbs-3.22-bioc/R/bin/R CMD check --install=check:gVenn.install-out.txt --library=/home/biocbuild/bbs-3.22-bioc/R/site-library --timings gVenn_1.0.0.tar.gz StartedAt: 2025-11-10 00:30:22 -0500 (Mon, 10 Nov 2025) EndedAt: 2025-11-10 00:32:20 -0500 (Mon, 10 Nov 2025) EllapsedTime: 117.3 seconds RetCode: 0 Status: OK CheckDir: gVenn.Rcheck Warnings: 0