Package: gVenn Version: 1.0.0 Command: /Library/Frameworks/R.framework/Resources/bin/R CMD check --install=check:gVenn.install-out.txt --library=/Library/Frameworks/R.framework/Resources/library --no-vignettes --timings gVenn_1.0.0.tar.gz StartedAt: 2025-11-10 20:25:42 -0500 (Mon, 10 Nov 2025) EndedAt: 2025-11-10 20:26:29 -0500 (Mon, 10 Nov 2025) EllapsedTime: 46.5 seconds RetCode: 0 Status: OK CheckDir: gVenn.Rcheck Warnings: 0