Package: gVenn Version: 1.0.0 Command: /Library/Frameworks/R.framework/Resources/bin/R CMD build --keep-empty-dirs --no-resave-data gVenn StartedAt: 2025-11-09 16:38:52 -0500 (Sun, 09 Nov 2025) EndedAt: 2025-11-09 16:39:00 -0500 (Sun, 09 Nov 2025) EllapsedTime: 8.1 seconds RetCode: 0 Status: OK PackageFile: gVenn_1.0.0.tar.gz PackageFileSize: 2.231 MiB