Package: gVenn Version: 1.0.0 Command: rm -rf gVenn.buildbin-libdir && mkdir gVenn.buildbin-libdir && /Users/biocbuild/BBS/utils/build-universal.sh gVenn_1.0.0.tar.gz /Library/Frameworks/R.framework/Resources/bin/R gVenn.buildbin-libdir StartedAt: 2025-11-09 23:10:43 -0500 (Sun, 09 Nov 2025) EndedAt: 2025-11-09 23:10:45 -0500 (Sun, 09 Nov 2025) EllapsedTime: 2.0 seconds RetCode: 0 Status: OK PackageFile: gVenn_1.0.0.tgz PackageFileSize: 2.006 MiB