Package: gINTomics Version: 1.5.2 Command: /home/biocbuild/R/R/bin/R CMD build --keep-empty-dirs --no-resave-data gINTomics StartedAt: 2025-10-21 00:08:07 -0000 (Tue, 21 Oct 2025) EndedAt: 2025-10-21 00:16:09 -0000 (Tue, 21 Oct 2025) EllapsedTime: 482.1 seconds RetCode: 0 Status: OK PackageFile: gINTomics_1.5.2.tar.gz PackageFileSize: 3.567 MiB