Package: gINTomics Version: 1.5.0 Command: chmod a+r gINTomics -R && F:\biocbuild\bbs-3.22-bioc\R\bin\R.exe CMD build --keep-empty-dirs --no-resave-data gINTomics StartedAt: 2025-08-14 20:32:47 -0400 (Thu, 14 Aug 2025) EndedAt: 2025-08-14 20:36:52 -0400 (Thu, 14 Aug 2025) EllapsedTime: 245.3 seconds RetCode: 0 Status: OK PackageFile: gINTomics_1.5.0.tar.gz PackageFileSize: 3.504 MiB