Package: gINTomics Version: 1.6.0 Command: /home/biocbuild/bbs-3.22-bioc/R/bin/R CMD INSTALL gINTomics StartedAt: 2025-11-06 15:49:28 -0500 (Thu, 06 Nov 2025) EndedAt: 2025-11-06 15:50:52 -0500 (Thu, 06 Nov 2025) EllapsedTime: 83.9 seconds RetCode: 0 Status: OK