Package: gINTomics Version: 1.6.0 Command: /home/biocbuild/bbs-3.22-bioc/R/bin/R CMD check --install=check:gINTomics.install-out.txt --library=/home/biocbuild/bbs-3.22-bioc/R/site-library --timings gINTomics_1.6.0.tar.gz StartedAt: 2025-11-07 00:05:12 -0500 (Fri, 07 Nov 2025) EndedAt: 2025-11-07 00:24:42 -0500 (Fri, 07 Nov 2025) EllapsedTime: 1170.4 seconds RetCode: 0 Status: OK CheckDir: gINTomics.Rcheck Warnings: 0