Package: gDRstyle Version: 1.6.0 Command: /Library/Frameworks/R.framework/Resources/bin/R CMD check --install=check:gDRstyle.install-out.txt --library=/Library/Frameworks/R.framework/Resources/library --no-vignettes --timings gDRstyle_1.6.0.tar.gz StartedAt: 2025-10-14 22:19:23 -0400 (Tue, 14 Oct 2025) EndedAt: 2025-10-14 22:20:43 -0400 (Tue, 14 Oct 2025) EllapsedTime: 80.0 seconds RetCode: 0 Status: OK CheckDir: gDRstyle.Rcheck Warnings: 0