Package: gDRimport Version: 1.8.0 Command: /home/biocbuild/R/R/bin/R CMD INSTALL gDRimport StartedAt: 2025-11-13 21:46:01 -0000 (Thu, 13 Nov 2025) EndedAt: 2025-11-13 21:46:33 -0000 (Thu, 13 Nov 2025) EllapsedTime: 31.5 seconds RetCode: 0 Status: OK