Package: gDRimport Version: 1.8.0 Command: /home/biocbuild/R/R/bin/R CMD build --keep-empty-dirs --no-resave-data gDRimport StartedAt: 2025-11-14 01:58:27 -0000 (Fri, 14 Nov 2025) EndedAt: 2025-11-14 01:59:34 -0000 (Fri, 14 Nov 2025) EllapsedTime: 67.0 seconds RetCode: 0 Status: OK PackageFile: gDRimport_1.8.0.tar.gz PackageFileSize: 3.036 MiB