Package: gDRimport Version: 1.6.0 Command: /home/biocbuild/bbs-3.21-bioc/R/bin/R CMD build --keep-empty-dirs --no-resave-data gDRimport StartedAt: 2025-10-01 17:41:00 -0400 (Wed, 01 Oct 2025) EndedAt: 2025-10-01 17:41:47 -0400 (Wed, 01 Oct 2025) EllapsedTime: 47.1 seconds RetCode: 0 Status: OK PackageFile: gDRimport_1.6.0.tar.gz PackageFileSize: 3.01 MiB