Package: gDRimport Version: 1.6.0 Command: /Library/Frameworks/R.framework/Resources/bin/R CMD INSTALL gDRimport StartedAt: 2025-10-06 16:05:34 -0400 (Mon, 06 Oct 2025) EndedAt: 2025-10-06 16:06:28 -0400 (Mon, 06 Oct 2025) EllapsedTime: 53.7 seconds RetCode: 0 Status: OK