Package: gDRimport Version: 1.6.0 Command: rm -rf gDRimport.buildbin-libdir && mkdir gDRimport.buildbin-libdir && /Users/biocbuild/BBS/utils/build-universal.sh gDRimport_1.6.0.tar.gz /Library/Frameworks/R.framework/Resources/bin/R gDRimport.buildbin-libdir StartedAt: 2025-10-07 13:13:20 -0400 (Tue, 07 Oct 2025) EndedAt: 2025-10-07 13:14:58 -0400 (Tue, 07 Oct 2025) EllapsedTime: 97.7 seconds RetCode: 0 Status: OK PackageFile: gDRimport_1.6.0.tgz PackageFileSize: 3.329 MiB