Package: gDRcore Version: 1.6.0 Command: /home/biocbuild/bbs-3.21-bioc/R/bin/R CMD INSTALL gDRcore StartedAt: 2025-10-15 15:37:23 -0400 (Wed, 15 Oct 2025) EndedAt: 2025-10-15 15:37:38 -0400 (Wed, 15 Oct 2025) EllapsedTime: 14.4 seconds RetCode: 0 Status: OK