Package: gDRcore Version: 1.6.0 Command: /Library/Frameworks/R.framework/Resources/bin/R CMD INSTALL gDRcore StartedAt: 2025-10-13 16:07:53 -0400 (Mon, 13 Oct 2025) EndedAt: 2025-10-13 16:08:25 -0400 (Mon, 13 Oct 2025) EllapsedTime: 32.0 seconds RetCode: 0 Status: OK