Package: gDRcore Version: 1.6.0 Command: /Library/Frameworks/R.framework/Resources/bin/R CMD check --install=check:gDRcore.install-out.txt --library=/Library/Frameworks/R.framework/Resources/library --no-vignettes --timings gDRcore_1.6.0.tar.gz StartedAt: 2025-10-14 22:17:10 -0400 (Tue, 14 Oct 2025) EndedAt: 2025-10-14 22:22:54 -0400 (Tue, 14 Oct 2025) EllapsedTime: 344.0 seconds RetCode: 0 Status: OK CheckDir: gDRcore.Rcheck Warnings: 0