Package: gDR Version: 1.7.2 Command: /home/biocbuild/R/R/bin/R CMD build --keep-empty-dirs --no-resave-data gDR StartedAt: 2025-10-20 23:53:49 -0000 (Mon, 20 Oct 2025) EndedAt: 2025-10-20 23:54:58 -0000 (Mon, 20 Oct 2025) EllapsedTime: 69.0 seconds RetCode: 0 Status: OK PackageFile: gDR_1.7.2.tar.gz PackageFileSize: 299.1 KiB