Package: gDR Version: 1.7.2 Command: F:\biocbuild\bbs-3.22-bioc\R\bin\R.exe CMD check --no-multiarch --install=check:gDR.install-out.txt --library=F:\biocbuild\bbs-3.22-bioc\R\library --no-vignettes --timings gDR_1.7.2.tar.gz StartedAt: 2025-08-15 03:26:07 -0400 (Fri, 15 Aug 2025) EndedAt: 2025-08-15 03:29:20 -0400 (Fri, 15 Aug 2025) EllapsedTime: 193.8 seconds RetCode: 0 Status: OK CheckDir: gDR.Rcheck Warnings: 0