Package: gDR Version: 1.8.0 Command: /home/biocbuild/bbs-3.22-bioc/R/bin/R CMD INSTALL gDR StartedAt: 2025-11-09 15:39:08 -0500 (Sun, 09 Nov 2025) EndedAt: 2025-11-09 15:39:32 -0500 (Sun, 09 Nov 2025) EllapsedTime: 23.5 seconds RetCode: 0 Status: OK