Package: gDNAx Version: 1.7.3 Command: F:\biocbuild\bbs-3.22-bioc\R\bin\R.exe CMD INSTALL gDNAx StartedAt: 2025-08-14 16:57:32 -0400 (Thu, 14 Aug 2025) EndedAt: 2025-08-14 16:58:26 -0400 (Thu, 14 Aug 2025) EllapsedTime: 53.1 seconds RetCode: 0 Status: OK