Package: gDNAx Version: 1.8.0 Command: /home/biocbuild/bbs-3.22-bioc/R/bin/R CMD INSTALL gDNAx StartedAt: 2025-11-06 15:56:45 -0500 (Thu, 06 Nov 2025) EndedAt: 2025-11-06 15:57:33 -0500 (Thu, 06 Nov 2025) EllapsedTime: 47.9 seconds RetCode: 0 Status: OK