Package: gDNAx Version: 1.8.0 Command: /home/biocbuild/bbs-3.22-bioc/R/bin/R CMD check --install=check:gDNAx.install-out.txt --library=/home/biocbuild/bbs-3.22-bioc/R/site-library --timings gDNAx_1.8.0.tar.gz StartedAt: 2025-11-06 23:44:29 -0500 (Thu, 06 Nov 2025) EndedAt: 2025-11-07 00:02:10 -0500 (Fri, 07 Nov 2025) EllapsedTime: 1060.9 seconds RetCode: 0 Status: OK CheckDir: gDNAx.Rcheck Warnings: 0