Package: funOmics Version: 1.2.0 Command: /Library/Frameworks/R.framework/Resources/bin/R CMD check --install=check:funOmics.install-out.txt --library=/Library/Frameworks/R.framework/Resources/library --no-vignettes --timings funOmics_1.2.0.tar.gz StartedAt: 2025-09-26 03:53:23 -0400 (Fri, 26 Sep 2025) EndedAt: 2025-09-26 03:59:39 -0400 (Fri, 26 Sep 2025) EllapsedTime: 375.6 seconds RetCode: 0 Status: OK CheckDir: funOmics.Rcheck Warnings: 0