Package: funOmics Version: 1.2.0 Command: /Library/Frameworks/R.framework/Resources/bin/R CMD INSTALL funOmics StartedAt: 2025-10-13 15:56:48 -0400 (Mon, 13 Oct 2025) EndedAt: 2025-10-13 15:57:08 -0400 (Mon, 13 Oct 2025) EllapsedTime: 19.6 seconds RetCode: 0 Status: OK