Package: funOmics Version: 1.2.0 Command: /Library/Frameworks/R.framework/Resources/bin/R CMD build --keep-empty-dirs --no-resave-data funOmics StartedAt: 2025-10-14 00:37:31 -0400 (Tue, 14 Oct 2025) EndedAt: 2025-10-14 00:45:19 -0400 (Tue, 14 Oct 2025) EllapsedTime: 468.2 seconds RetCode: 0 Status: OK PackageFile: funOmics_1.2.0.tar.gz PackageFileSize: 52.56 KiB