Package: funOmics Version: 1.2.0 Command: rm -rf funOmics.buildbin-libdir && mkdir funOmics.buildbin-libdir && /Users/biocbuild/BBS/utils/build-universal.sh funOmics_1.2.0.tar.gz /Library/Frameworks/R.framework/Resources/bin/R funOmics.buildbin-libdir StartedAt: 2025-10-15 18:33:15 -0400 (Wed, 15 Oct 2025) EndedAt: 2025-10-15 18:33:37 -0400 (Wed, 15 Oct 2025) EllapsedTime: 22.2 seconds RetCode: 0 Status: OK PackageFile: funOmics_1.2.0.tgz PackageFileSize: 70.97 KiB