Package: fobitools Version: 1.18.0 Command: /home/biocbuild/bbs-3.22-bioc/R/bin/R CMD build --keep-empty-dirs --no-resave-data --md5 fobitools StartedAt: 2025-11-06 17:41:48 -0500 (Thu, 06 Nov 2025) EndedAt: 2025-11-06 17:43:02 -0500 (Thu, 06 Nov 2025) EllapsedTime: 74.1 seconds RetCode: 0 Status: OK PackageFile: fobitools_1.18.0.tar.gz PackageFileSize: 6.102 MiB