Package: fobitools Version: 1.18.0 Command: /Library/Frameworks/R.framework/Resources/bin/R CMD INSTALL fobitools StartedAt: 2025-11-10 15:05:46 -0500 (Mon, 10 Nov 2025) EndedAt: 2025-11-10 15:05:54 -0500 (Mon, 10 Nov 2025) EllapsedTime: 7.5 seconds RetCode: 0 Status: OK