Package: fmcsR Version: 1.52.0 Command: /home/biocbuild/R/R/bin/R CMD INSTALL fmcsR StartedAt: 2025-11-20 22:00:34 -0000 (Thu, 20 Nov 2025) EndedAt: 2025-11-20 22:01:09 -0000 (Thu, 20 Nov 2025) EllapsedTime: 35.4 seconds RetCode: 0 Status: OK