Package: fmcsR Version: 1.52.0 Command: /home/biocbuild/R/R/bin/R CMD build --keep-empty-dirs --no-resave-data fmcsR StartedAt: 2025-11-21 02:30:28 -0000 (Fri, 21 Nov 2025) EndedAt: 2025-11-21 02:31:32 -0000 (Fri, 21 Nov 2025) EllapsedTime: 64.1 seconds RetCode: 0 Status: OK PackageFile: fmcsR_1.52.0.tar.gz PackageFileSize: 624.5 KiB