Package: fmcsR Version: 1.52.0 Command: /home/biocbuild/bbs-3.22-bioc/R/bin/R CMD build --keep-empty-dirs --no-resave-data --md5 fmcsR StartedAt: 2025-11-20 18:32:14 -0500 (Thu, 20 Nov 2025) EndedAt: 2025-11-20 18:33:01 -0500 (Thu, 20 Nov 2025) EllapsedTime: 47.0 seconds RetCode: 0 Status: OK PackageFile: fmcsR_1.52.0.tar.gz PackageFileSize: 809.3 KiB