Package: flowcatchR Version: 1.44.0 Command: /home/biocbuild/R/R/bin/R CMD INSTALL flowcatchR StartedAt: 2025-11-13 21:20:36 -0000 (Thu, 13 Nov 2025) EndedAt: 2025-11-13 21:20:49 -0000 (Thu, 13 Nov 2025) EllapsedTime: 13.7 seconds RetCode: 0 Status: OK