Package: flowcatchR Version: 1.44.0 Command: /home/biocbuild/R/R/bin/R CMD build --keep-empty-dirs --no-resave-data flowcatchR StartedAt: 2025-11-14 01:51:07 -0000 (Fri, 14 Nov 2025) EndedAt: 2025-11-14 01:51:59 -0000 (Fri, 14 Nov 2025) EllapsedTime: 52.0 seconds RetCode: 0 Status: OK PackageFile: flowcatchR_1.44.0.tar.gz PackageFileSize: 6.056 MiB