Package: flowcatchR Version: 1.44.0 Command: /home/biocbuild/bbs-3.22-bioc/R/bin/R CMD check --install=check:flowcatchR.install-out.txt --library=/home/biocbuild/bbs-3.22-bioc/R/site-library --timings flowcatchR_1.44.0.tar.gz StartedAt: 2025-11-09 23:49:35 -0500 (Sun, 09 Nov 2025) EndedAt: 2025-11-09 23:51:09 -0500 (Sun, 09 Nov 2025) EllapsedTime: 94.1 seconds RetCode: 0 Status: OK CheckDir: flowcatchR.Rcheck Warnings: 0