Package: flowcatchR Version: 1.44.0 Command: /Library/Frameworks/R.framework/Resources/bin/R CMD INSTALL flowcatchR StartedAt: 2025-11-03 15:20:40 -0500 (Mon, 03 Nov 2025) EndedAt: 2025-11-03 15:20:57 -0500 (Mon, 03 Nov 2025) EllapsedTime: 16.3 seconds RetCode: 0 Status: OK