Package: flowcatchR Version: 1.44.0 Command: /Library/Frameworks/R.framework/Resources/bin/R CMD build --keep-empty-dirs --no-resave-data flowcatchR StartedAt: 2025-11-03 17:02:47 -0500 (Mon, 03 Nov 2025) EndedAt: 2025-11-03 17:03:35 -0500 (Mon, 03 Nov 2025) EllapsedTime: 48.1 seconds RetCode: 0 Status: OK PackageFile: flowcatchR_1.44.0.tar.gz PackageFileSize: 6.849 MiB