Package: flowcatchR Version: 1.44.0 Command: /Library/Frameworks/R.framework/Resources/bin/R CMD INSTALL flowcatchR StartedAt: 2025-11-06 15:10:30 -0500 (Thu, 06 Nov 2025) EndedAt: 2025-11-06 15:10:35 -0500 (Thu, 06 Nov 2025) EllapsedTime: 4.5 seconds RetCode: 0 Status: OK